BEGIN:VCALENDAR
VERSION:2.0
PRODID:-//wp-events-plugin.com//7.2.3.1//EN
TZID:Europe/Stockholm
X-WR-TIMEZONE:Europe/Stockholm
BEGIN:VEVENT
UID:114@coachingfederation.se
DTSTART;TZID=Europe/Stockholm:20251209T180000
DTEND;TZID=Europe/Stockholm:20251209T200000
DTSTAMP:20251118T120016Z
URL:https://coachingfederation.se/evenemang/coachens-verktygslada-karnkomp
 etens-7/
SUMMARY:Coachens verktygslåda - Kärnkompetens 7
DESCRIPTION:
LOCATION:https://icf.confetti.events/2025-12-09-coachens-verktygslada-karnk
 ompetens-6/?invite=1f35658446d81e3efa1ab72361512406916a
END:VEVENT
BEGIN:VTIMEZONE
TZID:Europe/Stockholm
X-LIC-LOCATION:Europe/Stockholm
BEGIN:STANDARD
DTSTART:20251026T020000
TZOFFSETFROM:+0200
TZOFFSETTO:+0100
TZNAME:CET
END:STANDARD
END:VTIMEZONE
END:VCALENDAR