BEGIN:VCALENDAR
VERSION:2.0
PRODID:-//wp-events-plugin.com//7.2.3.1//EN
TZID:Europe/Stockholm
X-WR-TIMEZONE:Europe/Stockholm
BEGIN:VEVENT
UID:61@coachingfederation.se
DTSTART;TZID=Europe/Stockholm:20231129T180000
DTEND;TZID=Europe/Stockholm:20231129T200000
DTSTAMP:20231029T083834Z
URL:https://coachingfederation.se/evenemang/coaching-supervision/
SUMMARY:Coaching Supervision
DESCRIPTION:
LOCATION:https://icf.confetti.events/coaching-supervision-i-praktiken/
END:VEVENT
BEGIN:VTIMEZONE
TZID:Europe/Stockholm
X-LIC-LOCATION:Europe/Stockholm
BEGIN:STANDARD
DTSTART:20231029T020000
TZOFFSETFROM:+0200
TZOFFSETTO:+0100
TZNAME:CET
END:STANDARD
END:VTIMEZONE
END:VCALENDAR